BEGIN:VCALENDAR
VERSION:2.0
PRODID:-//hacksw/handcal//NONSGML v1.0//EN
BEGIN:VEVENT
DTSTAMP:20151130T190000Z
DTSTART:20151130T190000Z
DTEND:20151130T190000Z
LOCATION:Sportlerheim des TSV Trittau  (Trittau, Im Raum 25  - auch vom großen Parkplatz an der Großenseer Straße zu erreichen), Deutschland
SUMMARY:Jahreshauptversammlung der CDU Trittau
END:VEVENT
END:VCALENDAR
