BEGIN:VCALENDAR
VERSION:2.0
PRODID:-//hacksw/handcal//NONSGML v1.0//EN
BEGIN:VEVENT
DTSTAMP:20230506T090000Z
DTSTART:20230506T090000Z
DTEND:20230506T090000Z
LOCATION:Einmündungsbereich Finkenweg, Herrenruhmweg, Trittau, 22946, Deutschland
SUMMARY:CDU Trittau - Diskussionsrunde zur Situation am Herrenruhmweg
END:VEVENT
END:VCALENDAR
