BEGIN:VCALENDAR
VERSION:2.0
PRODID:-//hacksw/handcal//NONSGML v1.0//EN
BEGIN:VEVENT
DTSTAMP:20230429T120000Z
DTSTART:20230429T120000Z
DTEND:20230429T140000Z
LOCATION:im provisorischen Wendehammer, Zur Mühlau, Trittau, 22946, Deutschland
SUMMARY:CDU Trittau - Wort gehalten - „Zur Mühlau“ wird reine Anliegerstraße!
END:VEVENT
END:VCALENDAR
