BEGIN:VCALENDAR
VERSION:2.0
PRODID:-//hacksw/handcal//NONSGML v1.0//EN
BEGIN:VEVENT
DTSTAMP:20230422T090000Z
DTSTART:20230422T090000Z
DTEND:20230422T090000Z
LOCATION:am großen Spielplatz, Ernst-Barlach-Ring, Trittau, 22946, Deutschland
SUMMARY:CDU Trittau - Diskussionsrunde zur Hasenberg Siedlung
END:VEVENT
END:VCALENDAR
