BEGIN:VCALENDAR
VERSION:2.0
PRODID:-//hacksw/handcal//NONSGML v1.0//EN
BEGIN:VEVENT
DTSTAMP:20230429T090000Z
DTSTART:20230429T090000Z
DTEND:20230429T090000Z
LOCATION:11 Uhr - Bebelstraße 13, 14 Uhr - Lütjenseer Str. Ecke Gartenstr., Trittau, 22946, Deutschland
SUMMARY:CDU Trittau - Anregungen zum Schandfleck "Altes Bahngelände"
END:VEVENT
END:VCALENDAR
